BEGIN:VCALENDAR
VERSION:2.0
PRODID:-//Estação Náutica de Portimão - ECPv6.15.20//NONSGML v1.0//EN
CALSCALE:GREGORIAN
METHOD:PUBLISH
X-ORIGINAL-URL:https://nauticalportimao.com
X-WR-CALDESC:Eventos para Estação Náutica de Portimão
REFRESH-INTERVAL;VALUE=DURATION:PT1H
X-Robots-Tag:noindex
X-PUBLISHED-TTL:PT1H
BEGIN:VTIMEZONE
TZID:UTC
BEGIN:STANDARD
TZOFFSETFROM:+0000
TZOFFSETTO:+0000
TZNAME:UTC
DTSTART:20240101T000000
END:STANDARD
END:VTIMEZONE
BEGIN:VEVENT
DTSTART;TZID=UTC:20250927T080000
DTEND;TZID=UTC:20250928T170000
DTSTAMP:20260419T235656
CREATED:20250916T160048Z
LAST-MODIFIED:20250917T112022Z
UID:10000008-1758960000-1759078800@nauticalportimao.com
SUMMARY:XII Troféu António Moura
DESCRIPTION:O Clube Naval de Portimão confirma a realização do XII Troféu António Moura\, que terá lugar nas águas de Portimão durante o fim de semana de 27 e 28 de setembro de 2025. Esta é uma prova de âmbito regional\, inserida no calendário de eventos do clube para a época desportiva de 2024/2025. \nA competição destina-se à classe de Vela Ligeira e será disputada no formato de frota (Fleet Racing). O evento é de caráter aberto (Open)\, permitindo a participação de velejadores de ambos os géneros no escalão Absoluto.
URL:https://nauticalportimao.com/evento/xii-trofeu-antonio-moura/
LOCATION:Marina de Portimão\, Portimão\, Portugal
ATTACH;FMTTYPE=image/jpeg:https://nauticalportimao.com/wp-content/uploads/2025/09/evento-logo.jpg
ORGANIZER;CN="Clube Naval de Portim%C3%A3o":MAILTO:geral@clubenavaldeportimao.com
END:VEVENT
BEGIN:VEVENT
DTSTART;VALUE=DATE:20260301
DTEND;VALUE=DATE:20260401
DTSTAMP:20260419T235656
CREATED:20250916T162542Z
LAST-MODIFIED:20250916T172348Z
UID:10000013-1772323200-1775001599@nauticalportimao.com
SUMMARY:Campeonato Regional de Cruzeiros ORC
DESCRIPTION:
URL:https://nauticalportimao.com/evento/campeonato-regional-de-cruzeiros-orc/
LOCATION:Marina de Portimão\, Portimão\, Portugal
ATTACH;FMTTYPE=image/jpeg:https://nauticalportimao.com/wp-content/uploads/2025/09/evento-logo.jpg
ORGANIZER;CN="Iate Clube de Portim%C3%A3o":MAILTO:icmp@marinadeportimao.com.pt
END:VEVENT
BEGIN:VEVENT
DTSTART;TZID=UTC:20260312T080000
DTEND;TZID=UTC:20260315T170000
DTSTAMP:20260419T235656
CREATED:20250913T170759Z
LAST-MODIFIED:20250914T155037Z
UID:10000001-1773302400-1773594000@nauticalportimao.com
SUMMARY:2026 EurILCA Europa Cup POR
DESCRIPTION:
URL:https://nauticalportimao.com/evento/2026-eurilca-europa-cup-por/
LOCATION:Marina de Portimão\, Portimão\, Portugal
ATTACH;FMTTYPE=image/jpeg:https://nauticalportimao.com/wp-content/uploads/2025/09/eurilca-europa-cup-2026.jpg
END:VEVENT
BEGIN:VEVENT
DTSTART;TZID=UTC:20260328T080000
DTEND;TZID=UTC:20260329T170000
DTSTAMP:20260419T235656
CREATED:20250916T154251Z
LAST-MODIFIED:20250916T155250Z
UID:10000005-1774684800-1774803600@nauticalportimao.com
SUMMARY:Campeonato Nacional de Kayak Polo de 28 a 29 de março
DESCRIPTION:
URL:https://nauticalportimao.com/evento/campeonato-nacional-de-kayak-polo-de-28-a-29-de-marco/
ATTACH;FMTTYPE=image/jpeg:https://nauticalportimao.com/wp-content/uploads/2025/09/evento-logo.jpg
END:VEVENT
BEGIN:VEVENT
DTSTART;TZID=UTC:20260328T080000
DTEND;TZID=UTC:20260329T170000
DTSTAMP:20260419T235656
CREATED:20250916T161256Z
LAST-MODIFIED:20250916T161256Z
UID:10000012-1774684800-1774803600@nauticalportimao.com
SUMMARY:1ª Prova do Circuito Nacional de Vela Adaptada
DESCRIPTION:
URL:https://nauticalportimao.com/evento/1a-prova-do-circuito-nacional-de-vela-adaptada/
LOCATION:Marina de Portimão\, Portimão\, Portugal
ATTACH;FMTTYPE=image/jpeg:https://nauticalportimao.com/wp-content/uploads/2025/09/evento-logo.jpg
END:VEVENT
BEGIN:VEVENT
DTSTART;TZID=UTC:20260410T080000
DTEND;TZID=UTC:20260412T170000
DTSTAMP:20260419T235656
CREATED:20250913T190232Z
LAST-MODIFIED:20250916T154157Z
UID:10000002-1775808000-1776013200@nauticalportimao.com
SUMMARY:Campeonato Ibérico De Formula Windsurfing Foil
DESCRIPTION:A temporada de 2025/2026 traz a emoção do Campeonato Ibérico de Formula Windsurfing Foil para as águas de Portimão. O evento\, com status de Internacional e com organização do Clube Naval de Portimão\, está agendado para os dias 10 a 12 de abril de 2026. \nAtletas das classes Júnior\, Master e Senior\, nos géneros Masculino e Feminino\, irão competir no formato Frota. Esta competição\, que marca a história do desporto ibérico\, é um espetáculo de pura destreza e velocidade.
URL:https://nauticalportimao.com/evento/campeonato-iberico-de-formula-windsurfing-foil/
LOCATION:Marina de Portimão\, Portimão\, Portugal
ATTACH;FMTTYPE=image/jpeg:https://nauticalportimao.com/wp-content/uploads/2025/09/evento-logo.jpg
ORGANIZER;CN="Clube Naval de Portim%C3%A3o":MAILTO:geral@clubenavaldeportimao.com
END:VEVENT
BEGIN:VEVENT
DTSTART;TZID=UTC:20260516T080000
DTEND;TZID=UTC:20260523T170000
DTSTAMP:20260419T235656
CREATED:20250916T154454Z
LAST-MODIFIED:20250916T154516Z
UID:10000006-1778918400-1779555600@nauticalportimao.com
SUMMARY:Campeonato da Europa de Foil Seniores
DESCRIPTION:
URL:https://nauticalportimao.com/evento/campeonato-da-europa-de-foil-seniores/
LOCATION:Marina de Portimão\, Portimão\, Portugal
ATTACH;FMTTYPE=image/jpeg:https://nauticalportimao.com/wp-content/uploads/2025/09/evento-logo.jpg
END:VEVENT
BEGIN:VEVENT
DTSTART;TZID=UTC:20260603T080000
DTEND;TZID=UTC:20260607T170000
DTSTAMP:20260419T235656
CREATED:20250916T155156Z
LAST-MODIFIED:20250916T155207Z
UID:10000007-1780473600-1780851600@nauticalportimao.com
SUMMARY:Campeonato Portugal de Juvenis e Infantis de Vela
DESCRIPTION:Fica confirmado que o Campeonato de Portugal de Juvenis e Infantis da época 2025/2026 terá lugar em Portimão\, entre os dias 3 e 7 de junho de 2026. A organização da prova\, que representa o ponto alto do calendário nacional para a vela de formação\, estará a cargo do Clube Naval de Portimão. \nA competição é destinada exclusivamente à classe Optimist e irá reunir os melhores velejadores nacionais dos escalões Infantil e Juvenil\, tanto no género masculino como feminino. O formato do campeonato incluirá as convencionais regatas de frota (Fleet Racing)\, que apuram o campeão individual\, e as disputadas regatas por equipas (Team Racing)\, uma disciplina que testa a vertente tática e colaborativa dos jovens atletas.
URL:https://nauticalportimao.com/evento/campeonato-portugal-de-juvenis-e-infantis-de-vela/
LOCATION:Marina de Portimão\, Portimão\, Portugal
ATTACH;FMTTYPE=image/jpeg:https://nauticalportimao.com/wp-content/uploads/2025/09/evento-logo.jpg
ORGANIZER;CN="Clube Naval de Portim%C3%A3o":MAILTO:geral@clubenavaldeportimao.com
END:VEVENT
BEGIN:VEVENT
DTSTART;TZID=UTC:20260910T080000
DTEND;TZID=UTC:20260913T170000
DTSTAMP:20260419T235656
CREATED:20250916T160458Z
LAST-MODIFIED:20250916T163246Z
UID:10000009-1789027200-1789318800@nauticalportimao.com
SUMMARY:Campeonato Portugal de Juniores e Absoluto
DESCRIPTION:
URL:https://nauticalportimao.com/evento/campeonato-portugal-de-juniores-e-absoluto/
LOCATION:Marina de Portimão\, Portimão\, Portugal
ATTACH;FMTTYPE=image/jpeg:https://nauticalportimao.com/wp-content/uploads/2025/09/evento-logo.jpg
END:VEVENT
BEGIN:VEVENT
DTSTART;TZID=UTC:20260919T080000
DTEND;TZID=UTC:20260920T170000
DTSTAMP:20260419T235656
CREATED:20250916T160654Z
LAST-MODIFIED:20250916T160654Z
UID:10000010-1789804800-1789923600@nauticalportimao.com
SUMMARY:XII Trofeu António Moura
DESCRIPTION:
URL:https://nauticalportimao.com/evento/xii-trofeu-antonio-moura-2/
LOCATION:Marina de Portimão\, Portimão\, Portugal
ATTACH;FMTTYPE=image/jpeg:https://nauticalportimao.com/wp-content/uploads/2025/09/evento-logo.jpg
ORGANIZER;CN="Clube Naval de Portim%C3%A3o":MAILTO:geral@clubenavaldeportimao.com
END:VEVENT
BEGIN:VEVENT
DTSTART;TZID=UTC:20261003T080000
DTEND;TZID=UTC:20261011T170000
DTSTAMP:20260419T235656
CREATED:20250916T151744Z
LAST-MODIFIED:20250916T152806Z
UID:10000003-1791014400-1791738000@nauticalportimao.com
SUMMARY:World Sailing Inclusive Championship
DESCRIPTION:A visão para o Campeonato do Mundo de Vela Inclusiva é mais do que uma competição; é criar um palco global de alta performance onde os velejadores com deficiência estão no centro de toda a ação. \nEste campeonato foi desenhado para celebrar a capacidade em vez da limitação. É uma plataforma de elite onde os melhores velejadores da comunidade Para e Para Inclusiva podem competir com propósito\, visibilidade e total equidade. Aqui\, o talento fala mais alto. \nAo integrar formatos e equipamentos de vanguarda\, quebramos barreiras e desafiamos perceções sobre o que é o desporto adaptado de classe mundial. Cada regata é um passo em frente\, impulsionando o nosso grande objetivo: garantir o regresso da vela aos Jogos Paralímpicos.
URL:https://nauticalportimao.com/evento/world-sailing-inclusive-championship/
LOCATION:Marina de Portimão\, Portimão\, Portugal
ATTACH;FMTTYPE=image/jpeg:https://nauticalportimao.com/wp-content/uploads/2025/09/world-sailing.jpg
ORGANIZER;CN="World Sailing":MAILTO:office@sailing.org
END:VEVENT
BEGIN:VEVENT
DTSTART;VALUE=DATE:20261004
DTEND;VALUE=DATE:20261005
DTSTAMP:20260419T235656
CREATED:20250916T154003Z
LAST-MODIFIED:20250916T154003Z
UID:10000004-1791072000-1791158399@nauticalportimao.com
SUMMARY:Subida Internacional do Rio Arade
DESCRIPTION:
URL:https://nauticalportimao.com/evento/subida-internacional-do-rio-arade/
ATTACH;FMTTYPE=image/jpeg:https://nauticalportimao.com/wp-content/uploads/2025/09/evento-logo.jpg
ORGANIZER;CN="Clube Naval de Portim%C3%A3o":MAILTO:geral@clubenavaldeportimao.com
END:VEVENT
BEGIN:VEVENT
DTSTART;TZID=UTC:20261212T080000
DTEND;TZID=UTC:20261213T170000
DTSTAMP:20260419T235656
CREATED:20250916T160845Z
LAST-MODIFIED:20250916T160845Z
UID:10000011-1797062400-1797181200@nauticalportimao.com
SUMMARY:Campeonato Algarve de Vela
DESCRIPTION:
URL:https://nauticalportimao.com/evento/campeonato-algarve-de-vela/
LOCATION:Marina de Portimão\, Portimão\, Portugal
ATTACH;FMTTYPE=image/jpeg:https://nauticalportimao.com/wp-content/uploads/2025/09/evento-logo.jpg
END:VEVENT
END:VCALENDAR