BEGIN:VCALENDAR
VERSION:2.0
PRODID:-//Estação Náutica de Portimão - ECPv6.15.20//NONSGML v1.0//EN
CALSCALE:GREGORIAN
METHOD:PUBLISH
X-WR-CALNAME:Estação Náutica de Portimão
X-ORIGINAL-URL:https://nauticalportimao.com/en/
X-WR-CALDESC:Events for Estação Náutica de Portimão
REFRESH-INTERVAL;VALUE=DURATION:PT1H
X-Robots-Tag:noindex
X-PUBLISHED-TTL:PT1H
BEGIN:VTIMEZONE
TZID:UTC
BEGIN:STANDARD
TZOFFSETFROM:+0000
TZOFFSETTO:+0000
TZNAME:UTC
DTSTART:20250101T000000
END:STANDARD
END:VTIMEZONE
BEGIN:VEVENT
DTSTART;TZID=UTC:20260919T080000
DTEND;TZID=UTC:20260920T170000
DTSTAMP:20260419T185045
CREATED:20250916T160654Z
LAST-MODIFIED:20250916T160654Z
UID:10000017-1789804800-1789923600@nauticalportimao.com
SUMMARY:XII Antonio Moura Trophy
DESCRIPTION:
URL:https://nauticalportimao.com/en/evento/xii-antonio-moura-trophy/
LOCATION:Portimão Marina\, Portimão\, Portugal
ORGANIZER;CN="Portim%C3%A3o Naval Club":MAILTO:geral@clubenavaldeportimao.com
END:VEVENT
END:VCALENDAR