BEGIN:VCALENDAR
VERSION:2.0
PRODID:-//Estação Náutica de Portimão - ECPv6.15.20//NONSGML v1.0//EN
CALSCALE:GREGORIAN
METHOD:PUBLISH
X-WR-CALNAME:Estação Náutica de Portimão
X-ORIGINAL-URL:https://nauticalportimao.com/en/
X-WR-CALDESC:Events for Estação Náutica de Portimão
REFRESH-INTERVAL;VALUE=DURATION:PT1H
X-Robots-Tag:noindex
X-PUBLISHED-TTL:PT1H
BEGIN:VTIMEZONE
TZID:UTC
BEGIN:STANDARD
TZOFFSETFROM:+0000
TZOFFSETTO:+0000
TZNAME:UTC
DTSTART:20250101T000000
END:STANDARD
END:VTIMEZONE
BEGIN:VEVENT
DTSTART;TZID=UTC:20260603T080000
DTEND;TZID=UTC:20260607T170000
DTSTAMP:20260419T135016
CREATED:20250916T155156Z
LAST-MODIFIED:20250916T155156Z
UID:10000019-1780473600-1780851600@nauticalportimao.com
SUMMARY:Portuguese Youth & Junior Sailing Championships
DESCRIPTION:It has been confirmed that the Portuguese Youth and Children’s Championship for the 2025/2026 season will take place in Portimão between June 3 and 7\, 2026. Clube Naval de Portimão will be in charge of organizing the event\, which represents the highlight of the national calendar for youth sailing.  \nThe competition is aimed exclusively at the Optimist class and will bring together the best national sailors in the Children’s and Youth classes\, both male and female. The format of the championship will include the conventional fleet races (Fleet Racing)\, which determine the individual champion\, and the disputed team races (Team Racing)\, a discipline that tests the tactical and collaborative side of the young athletes.
URL:https://nauticalportimao.com/en/evento/portuguese-youth-junior-sailing-championships/
LOCATION:Portimão Marina\, Portimão\, Portugal
ORGANIZER;CN="Portim%C3%A3o Naval Club":MAILTO:geral@clubenavaldeportimao.com
END:VEVENT
END:VCALENDAR