BEGIN:VCALENDAR
VERSION:2.0
PRODID:-//Estação Náutica de Portimão - ECPv6.15.20//NONSGML v1.0//EN
CALSCALE:GREGORIAN
METHOD:PUBLISH
X-WR-CALNAME:Estação Náutica de Portimão
X-ORIGINAL-URL:https://nauticalportimao.com/de/
X-WR-CALDESC:Veranstaltungen für Estação Náutica de Portimão
REFRESH-INTERVAL;VALUE=DURATION:PT1H
X-Robots-Tag:noindex
X-PUBLISHED-TTL:PT1H
BEGIN:VTIMEZONE
TZID:UTC
BEGIN:STANDARD
TZOFFSETFROM:+0000
TZOFFSETTO:+0000
TZNAME:UTC
DTSTART:20250101T000000
END:STANDARD
END:VTIMEZONE
BEGIN:VEVENT
DTSTART;TZID=UTC:20261003T080000
DTEND;TZID=UTC:20261011T170000
DTSTAMP:20260419T165847
CREATED:20250916T151744Z
LAST-MODIFIED:20250916T151744Z
UID:10000059-1791014400-1791738000@nauticalportimao.com
SUMMARY:Weltmeisterschaft Segeln Inklusive
DESCRIPTION:Die Vision für den Inclusive Sailing World Cup ist mehr als ein Wettbewerb. Es geht darum\, eine globale Hochleistungsbühne zu schaffen\, auf der behinderte Segler im Mittelpunkt des Geschehens stehen. \nDiese Meisterschaft ist so konzipiert\, dass sie die Fähigkeiten und nicht die Einschränkungen feiert. Sie ist eine Elite-Plattform\, auf der die besten Para- und Para-Inclusive-Segler mit Zielstrebigkeit\, Sichtbarkeit und absoluter Fairness gegeneinander antreten können. Hier spricht das Talent lauter.   \nDurch die Integration modernster Formate und Ausrüstungen überwinden wir Barrieren und hinterfragen die Vorstellungen davon\, was angepasster Sport von Weltklasse ist. Jede Regatta ist ein Schritt nach vorn\, der unser großes Ziel vorantreibt: die Rückkehr des Segelsports zu den Paralympischen Spielen.
URL:https://nauticalportimao.com/de/evento/weltmeisterschaft-segeln-inklusive/
LOCATION:Yachthafen von Portimão\, Portimão\, Portugal
ATTACH;FMTTYPE=image/jpeg:https://nauticalportimao.com/wp-content/uploads/2025/09/world-sailing.jpg
ORGANIZER;CN="World Sailing":MAILTO:office@sailing.org
END:VEVENT
END:VCALENDAR