BEGIN:VCALENDAR
VERSION:2.0
PRODID:-//Estação Náutica de Portimão - ECPv6.15.20//NONSGML v1.0//EN
CALSCALE:GREGORIAN
METHOD:PUBLISH
X-WR-CALNAME:Estação Náutica de Portimão
X-ORIGINAL-URL:https://nauticalportimao.com/de/
X-WR-CALDESC:Veranstaltungen für Estação Náutica de Portimão
REFRESH-INTERVAL;VALUE=DURATION:PT1H
X-Robots-Tag:noindex
X-PUBLISHED-TTL:PT1H
BEGIN:VTIMEZONE
TZID:UTC
BEGIN:STANDARD
TZOFFSETFROM:+0000
TZOFFSETTO:+0000
TZNAME:UTC
DTSTART:20250101T000000
END:STANDARD
END:VTIMEZONE
BEGIN:VEVENT
DTSTART;TZID=UTC:20260910T080000
DTEND;TZID=UTC:20260913T170000
DTSTAMP:20260419T153053
CREATED:20250916T160458Z
LAST-MODIFIED:20250916T160458Z
UID:10000057-1789027200-1789318800@nauticalportimao.com
SUMMARY:Portugal Meisterschaften der Junioren und Absolventen
DESCRIPTION:
URL:https://nauticalportimao.com/de/evento/portugal-meisterschaften-der-junioren-und-absolventen/
LOCATION:Yachthafen von Portimão\, Portimão\, Portugal
ATTACH;FMTTYPE=image/jpeg:https://nauticalportimao.com/wp-content/uploads/2025/09/evento-logo.jpg
END:VEVENT
END:VCALENDAR