BEGIN:VCALENDAR
VERSION:2.0
PRODID:-//Estação Náutica de Portimão - ECPv6.15.20//NONSGML v1.0//EN
CALSCALE:GREGORIAN
METHOD:PUBLISH
X-ORIGINAL-URL:https://nauticalportimao.com/de/
X-WR-CALDESC:Veranstaltungen für Estação Náutica de Portimão
REFRESH-INTERVAL;VALUE=DURATION:PT1H
X-Robots-Tag:noindex
X-PUBLISHED-TTL:PT1H
BEGIN:VTIMEZONE
TZID:UTC
BEGIN:STANDARD
TZOFFSETFROM:+0000
TZOFFSETTO:+0000
TZNAME:UTC
DTSTART:20240101T000000
END:STANDARD
END:VTIMEZONE
BEGIN:VEVENT
DTSTART;TZID=UTC:20250927T080000
DTEND;TZID=UTC:20250928T170000
DTSTAMP:20260419T115924
CREATED:20250916T160048Z
LAST-MODIFIED:20250916T160048Z
UID:10000056-1758960000-1759078800@nauticalportimao.com
SUMMARY:XII. António Moura Trophäe
DESCRIPTION:Der Clube Naval de Portimão hat bestätigt\, dass die XII António Moura Trophy am Wochenende des 27. und 28. September 2025 in den Gewässern von Portimão stattfinden wird. Es handelt sich dabei um eine regionale Veranstaltung\, die in den Veranstaltungskalender des Clubs für die Sport-Saison 2024/2025 aufgenommen wurde.  \nDer Wettbewerb richtet sich an die Light Sailing Klasse und wird im Fleet Racing Format ausgetragen. Die Veranstaltung ist offen\, so dass Segler beiderlei Geschlechts in der Klasse Absolute teilnehmen können.
URL:https://nauticalportimao.com/de/evento/xii-antonio-moura-trophaee-2/
LOCATION:Yachthafen von Portimão\, Portimão\, Portugal
ATTACH;FMTTYPE=image/jpeg:https://nauticalportimao.com/wp-content/uploads/2025/09/evento-logo.jpg
ORGANIZER;CN="Clube Naval de Portim%C3%A3o":MAILTO:geral@clubenavaldeportimao.com
END:VEVENT
END:VCALENDAR